BEGIN:VCALENDAR
VERSION:2.0
PRODID:-//Tukios.com/
BEGIN:VEVENT
UID:da883352-285a-40bc-9a6b-e48e85e59ca1@www.roselawn-fh.com
DTSTAMP:20260420T082503Z
DTSTART:20260306T200000Z
DTEND:20260306T210000Z
SUMMARY:Funeral Service
DESCRIPTION:
URL:https://www.roselawn-fh.com/obituaries/debra-brown
LOCATION: 2942 Gulf Breeze Pkwy  Gulf Breeze FL 32563
GEO:30.3852161;-87.1015881
END:VEVENT
END:VCALENDAR